BEGIN:VCALENDAR
VERSION:2.0
PRODID:-//Grace Community Church of Monterey Park - ECPv6.15.20//NONSGML v1.0//EN
CALSCALE:GREGORIAN
METHOD:PUBLISH
X-WR-CALNAME:Grace Community Church of Monterey Park
X-ORIGINAL-URL:https://gracecommunitympk.org
X-WR-CALDESC:Events for Grace Community Church of Monterey Park
REFRESH-INTERVAL;VALUE=DURATION:PT1H
X-Robots-Tag:noindex
X-PUBLISHED-TTL:PT1H
BEGIN:VTIMEZONE
TZID:America/Los_Angeles
BEGIN:DAYLIGHT
TZOFFSETFROM:-0800
TZOFFSETTO:-0700
TZNAME:PDT
DTSTART:20230312T100000
END:DAYLIGHT
BEGIN:STANDARD
TZOFFSETFROM:-0700
TZOFFSETTO:-0800
TZNAME:PST
DTSTART:20231105T090000
END:STANDARD
BEGIN:DAYLIGHT
TZOFFSETFROM:-0800
TZOFFSETTO:-0700
TZNAME:PDT
DTSTART:20240310T100000
END:DAYLIGHT
BEGIN:STANDARD
TZOFFSETFROM:-0700
TZOFFSETTO:-0800
TZNAME:PST
DTSTART:20241103T090000
END:STANDARD
BEGIN:DAYLIGHT
TZOFFSETFROM:-0800
TZOFFSETTO:-0700
TZNAME:PDT
DTSTART:20250309T100000
END:DAYLIGHT
BEGIN:STANDARD
TZOFFSETFROM:-0700
TZOFFSETTO:-0800
TZNAME:PST
DTSTART:20251102T090000
END:STANDARD
END:VTIMEZONE
BEGIN:VEVENT
DTSTART;TZID=America/Los_Angeles:20240904T100000
DTEND;TZID=America/Los_Angeles:20240904T120000
DTSTAMP:20260421T181438
CREATED:20240829T200025Z
LAST-MODIFIED:20240829T200025Z
UID:5518-1725444000-1725451200@gracecommunitympk.org
SUMMARY:Senior Fellowship
DESCRIPTION:The Senior Fellowship will hold its first meeting on Wednesday\, September 4th from 10am to 12noon. Fellowship content includes singing\, prayer\, spiritual practice\, sports\, games or special topics\, etc.\, as well as lunch.
URL:https://gracecommunitympk.org/event/senior-fellowship/
CATEGORIES:Bible Study,Community,Food,Music
ATTACH;FMTTYPE=image/png:https://gracecommunitympk.org/wp-content/uploads/2024/08/Senior-Fellowship.png
END:VEVENT
BEGIN:VEVENT
DTSTART;TZID=America/Los_Angeles:20240913T180000
DTEND;TZID=America/Los_Angeles:20240913T200000
DTSTAMP:20260421T181438
CREATED:20240824T192059Z
LAST-MODIFIED:20240824T192100Z
UID:5489-1726250400-1726257600@gracecommunitympk.org
SUMMARY:Mid-Autumn Fellowship
DESCRIPTION:Join us for a time of fellowship for the Mid-Autumn festival. We’ll have a Potluck dinner\, praise and worship\, games\, and other activities. Open to all ages and languages!
URL:https://gracecommunitympk.org/event/mid-autumn-fellowship/
LOCATION:Fellowship Hall\, 337 W. Pomona Blvd\, Monterey Park\, CA\, CA\, United States
CATEGORIES:Community,Food,Music,Outreach
ATTACH;FMTTYPE=image/png:https://gracecommunitympk.org/wp-content/uploads/2024/08/Mid-autumn-2024-en.png
ORGANIZER;CN="Grace Community Church":MAILTO:info@gracecommunitympk.org
END:VEVENT
BEGIN:VEVENT
DTSTART;TZID=America/Los_Angeles:20240914T110000
DTEND;TZID=America/Los_Angeles:20240914T130000
DTSTAMP:20260421T181438
CREATED:20240831T160546Z
LAST-MODIFIED:20240831T160546Z
UID:5572-1726311600-1726318800@gracecommunitympk.org
SUMMARY:YAC Fellowship Potluck Kick-Off
DESCRIPTION:
URL:https://gracecommunitympk.org/event/yac-fellowship-potluck-kick-off/
LOCATION:Fellowship Hall\, 337 W. Pomona Blvd\, Monterey Park\, CA\, CA\, United States
ATTACH;FMTTYPE=image/png:https://gracecommunitympk.org/wp-content/uploads/2024/08/YAC-Potluck-wide.png
ORGANIZER;CN="Grace Community Church":MAILTO:info@gracecommunitympk.org
END:VEVENT
END:VCALENDAR