BEGIN:VCALENDAR
VERSION:2.0
PRODID:-//Grace Community Church of Monterey Park - ECPv6.15.20//NONSGML v1.0//EN
CALSCALE:GREGORIAN
METHOD:PUBLISH
X-ORIGINAL-URL:https://gracecommunitympk.org
X-WR-CALDESC:Events for Grace Community Church of Monterey Park
REFRESH-INTERVAL;VALUE=DURATION:PT1H
X-Robots-Tag:noindex
X-PUBLISHED-TTL:PT1H
BEGIN:VTIMEZONE
TZID:America/Los_Angeles
BEGIN:DAYLIGHT
TZOFFSETFROM:-0800
TZOFFSETTO:-0700
TZNAME:PDT
DTSTART:20230312T100000
END:DAYLIGHT
BEGIN:STANDARD
TZOFFSETFROM:-0700
TZOFFSETTO:-0800
TZNAME:PST
DTSTART:20231105T090000
END:STANDARD
BEGIN:DAYLIGHT
TZOFFSETFROM:-0800
TZOFFSETTO:-0700
TZNAME:PDT
DTSTART:20240310T100000
END:DAYLIGHT
BEGIN:STANDARD
TZOFFSETFROM:-0700
TZOFFSETTO:-0800
TZNAME:PST
DTSTART:20241103T090000
END:STANDARD
BEGIN:DAYLIGHT
TZOFFSETFROM:-0800
TZOFFSETTO:-0700
TZNAME:PDT
DTSTART:20250309T100000
END:DAYLIGHT
BEGIN:STANDARD
TZOFFSETFROM:-0700
TZOFFSETTO:-0800
TZNAME:PST
DTSTART:20251102T090000
END:STANDARD
END:VTIMEZONE
BEGIN:VEVENT
DTSTART;TZID=America/Los_Angeles:20240810T100000
DTEND;TZID=America/Los_Angeles:20240810T120000
DTSTAMP:20260421T194247
CREATED:20240620T034321Z
LAST-MODIFIED:20250719T025916Z
UID:5057-1723284000-1723291200@gracecommunitympk.org
SUMMARY:Grace Community Church celebrates "National Senior Day" with you!
DESCRIPTION:Grace Community Church celebrates “National Senior Day” with you!\nCantonese speaking elders are invited to participate \nLocation: 337 W. Pomona Blvd，Monterey Park\nDate: Saturday\, August 10 2024\nTime: 10 am – 12 pm \nThere will be games\, singing\, testimonies\, and lunch \nThe number of people is limited\, please RSVP below: \n 
URL:https://gracecommunitympk.org/event/%e6%b5%b8%e4%bf%a1%e6%9c%83%e6%95%91%e6%81%a9%e5%a0%82%e8%88%87%e4%bd%a0%e6%85%b6%e7%a5%9d%e5%85%a8%e5%9c%8b%e9%95%b7%e8%80%85%e6%97%a52024/
LOCATION:Fellowship Hall\, 337 W. Pomona Blvd\, Monterey Park\, CA\, CA\, United States
CATEGORIES:Community,Food,Outreach
ATTACH;FMTTYPE=image/png:https://gracecommunitympk.org/wp-content/uploads/2024/07/Senior-Celebration-Day-banner.png
ORGANIZER;CN="Grace Community Church":MAILTO:info@gracecommunitympk.org
END:VEVENT
BEGIN:VEVENT
DTSTART;TZID=America/Los_Angeles:20240818T130000
DTEND;TZID=America/Los_Angeles:20240818T143000
DTSTAMP:20260421T194247
CREATED:20240814T020420Z
LAST-MODIFIED:20240814T020420Z
UID:5436-1723986000-1723991400@gracecommunitympk.org
SUMMARY:Business Meeting
DESCRIPTION:We ask that all members please join for our annual Business Meeting on Sunday\, August 18 @ 1:00 PM in the Sanctuary to approve the next year’s church budget. \nA light lunch will be provided
URL:https://gracecommunitympk.org/event/business-meeting/
ATTACH;FMTTYPE=image/png:https://gracecommunitympk.org/wp-content/uploads/2024/08/Church-Business-Meeting.png
END:VEVENT
END:VCALENDAR