BEGIN:VCALENDAR
VERSION:2.0
PRODID:-//Grace Community Church of Monterey Park - ECPv6.15.20//NONSGML v1.0//EN
CALSCALE:GREGORIAN
METHOD:PUBLISH
X-WR-CALNAME:Grace Community Church of Monterey Park
X-ORIGINAL-URL:https://gracecommunitympk.org/ch
X-WR-CALDESC:Grace Community Church of Monterey Park的活动
REFRESH-INTERVAL;VALUE=DURATION:PT1H
X-Robots-Tag:noindex
X-PUBLISHED-TTL:PT1H
BEGIN:VTIMEZONE
TZID:America/Los_Angeles
BEGIN:DAYLIGHT
TZOFFSETFROM:-0800
TZOFFSETTO:-0700
TZNAME:PDT
DTSTART:20240310T100000
END:DAYLIGHT
BEGIN:STANDARD
TZOFFSETFROM:-0700
TZOFFSETTO:-0800
TZNAME:PST
DTSTART:20241103T090000
END:STANDARD
BEGIN:DAYLIGHT
TZOFFSETFROM:-0800
TZOFFSETTO:-0700
TZNAME:PDT
DTSTART:20250309T100000
END:DAYLIGHT
BEGIN:STANDARD
TZOFFSETFROM:-0700
TZOFFSETTO:-0800
TZNAME:PST
DTSTART:20251102T090000
END:STANDARD
BEGIN:DAYLIGHT
TZOFFSETFROM:-0800
TZOFFSETTO:-0700
TZNAME:PDT
DTSTART:20260308T100000
END:DAYLIGHT
BEGIN:STANDARD
TZOFFSETFROM:-0700
TZOFFSETTO:-0800
TZNAME:PST
DTSTART:20261101T090000
END:STANDARD
END:VTIMEZONE
BEGIN:VEVENT
DTSTART;TZID=America/Los_Angeles:20250202T120000
DTEND;TZID=America/Los_Angeles:20250202T130000
DTSTAMP:20260421T113503
CREATED:20250123T203333Z
LAST-MODIFIED:20250123T203333Z
UID:5994-1738497600-1738501200@gracecommunitympk.org
SUMMARY:Chinese New Year Potluck Lunch
DESCRIPTION:
URL:https://gracecommunitympk.org/ch/event/chinese-new-year-2025/
LOCATION:Fellowship Hall\, 337 W. Pomona Blvd\, Monterey Park\, CA\, CA\, United States
CATEGORIES:Community,Food,Outreach
ATTACH;FMTTYPE=image/png:https://gracecommunitympk.org/wp-content/uploads/2025/01/Happy-Chinese-New-Year2.png
ORGANIZER;CN="Grace Community Church":MAILTO:info@gracecommunitympk.org
END:VEVENT
END:VCALENDAR